BEGIN:VCALENDAR
VERSION:2.0
PRODID:-//Thistle Modelmakers Model Railway Club - ECPv6.15.18//NONSGML v1.0//EN
CALSCALE:GREGORIAN
METHOD:PUBLISH
X-ORIGINAL-URL:https://thistle-modelmakers.com
X-WR-CALDESC:Events for Thistle Modelmakers Model Railway Club
REFRESH-INTERVAL;VALUE=DURATION:PT1H
X-Robots-Tag:noindex
X-PUBLISHED-TTL:PT1H
BEGIN:VTIMEZONE
TZID:Europe/London
BEGIN:DAYLIGHT
TZOFFSETFROM:+0000
TZOFFSETTO:+0100
TZNAME:BST
DTSTART:20250330T010000
END:DAYLIGHT
BEGIN:STANDARD
TZOFFSETFROM:+0100
TZOFFSETTO:+0000
TZNAME:GMT
DTSTART:20251026T010000
END:STANDARD
BEGIN:DAYLIGHT
TZOFFSETFROM:+0000
TZOFFSETTO:+0100
TZNAME:BST
DTSTART:20260329T010000
END:DAYLIGHT
BEGIN:STANDARD
TZOFFSETFROM:+0100
TZOFFSETTO:+0000
TZNAME:GMT
DTSTART:20261025T010000
END:STANDARD
BEGIN:DAYLIGHT
TZOFFSETFROM:+0000
TZOFFSETTO:+0100
TZNAME:BST
DTSTART:20270328T010000
END:DAYLIGHT
BEGIN:STANDARD
TZOFFSETFROM:+0100
TZOFFSETTO:+0000
TZNAME:GMT
DTSTART:20271031T010000
END:STANDARD
END:VTIMEZONE
BEGIN:VEVENT
DTSTART;TZID=Europe/London:20260411T000000
DTEND;TZID=Europe/London:20260412T235959
DTSTAMP:20260420T131600
CREATED:20260301T132130Z
LAST-MODIFIED:20260301T175400Z
UID:578-1775865600-1776038399@thistle-modelmakers.com
SUMMARY:Edinburgh Show at Heriot Watt University
DESCRIPTION:Heriot Watt University. £6 (children to 15 free)
URL:https://thistle-modelmakers.com/event/edinburgh-show
LOCATION:Heriot Watt University\, Edinburgh Campus\, James Watt Centre\, Edinburgh\, EH14 4AS\, United Kingdom
CATEGORIES:Exhibition
END:VEVENT
END:VCALENDAR